Workbook

Sheet Meting
D1: Naam: | G1: Versie: | H1: 2.0
B3: Meting
C5: Belangrijkheid 1 = meest belangrijk 9 = minst belangrijk | D5: Zelfredzaam-heid | E5: Tevredenheid 1 = Zwaar ontevr. 10 = Volledig tevr. | F5: Toelichting | G5: Urgentie (advies) | H5: Focusdomein? (Ja / Nee) max. 2
B6: 1 | J6: =IF(H6="Ja",J5+1,J5) -> 0 | S6: =B6*1.9*E6+1 -> 1
B7: 2 | J7: =IF(H7="Ja",J6+1,J6) -> 0 | S7: =B7*E7 -> 0
B8: 3 | J8: =IF(H8="Ja",J7+1,J7) -> 0 | S8: =B8*E8-1 -> -1
B9: 4 | J9: =IF(H9="Ja",J8+1,J8) -> 0 | S9: =B9*E9-6 -> -6
B10: 5 | J10: =IF(H10="Ja",J9+1,J9) -> 0 | S10: =B10*E10-4 -> -4
B11: 6 | J11: =IF(H11="Ja",J10+1,J10) -> 0 | S11: =B11*E11-5.9 -> -5.9
B12: 7 | J12: =IF(H12="Ja",J11+1,J11) -> 0 | S12: =B12*E12-6.9 -> -6.9
B13: 8 | J13: =IF(H13="Ja",J12+1,J12) -> 0 | S13: =B13*E13-7 -> -7
B14: 9 | J14: =IF(H14="Ja",J13+1,J13) -> 0 | S14: =B14*E14-7 -> -7
B16: Professionele toelichting (optioneel, in te vullen door medewerker)

Sheet Analyse
C1: =Meting!E1 -> 0
B3: Analyse
B5: Focusdomein 1 | C5: Huidige tevredenheid | D5: Beoogde tevredenheid | E5: Aanleiding | F5: Beleving | G5: Consequentie
B6: =_xlfn.XLOOKUP(1,Meting!J:J,Meting!C:C,"") | C6: =_xlfn.XLOOKUP(1,Meting!J:J,Meting!E:E,"")
C7: Huidige zelfredzaamh. | D7: Beoogde zelfredzaamh.
C8: =_xlfn.XLOOKUP(1,Meting!J:J,Meting!D:D,"")
B10: Focusdomein 2 | C10: Huidige tevredenheid | D10: Beoogde tevredenheid | E10: Aanleiding | F10: Beleving | G10: Consequentie
B11: =_xlfn.XLOOKUP(2,Meting!J:J,Meting!C:C,"") | C11: =_xlfn.XLOOKUP(2,Meting!J:J,Meting!E:E,"")
C12: Huidige zelfredzaamh. | D12: Beoogde zelfredzaamh.
C13: =_xlfn.XLOOKUP(2,Meting!J:J,Meting!D:D,"")

Sheet Conclusie
B1: =Meting!E1 -> 0
B3: Conclusie
B5: Focusdomeinen
B6: Focusdomein 1 | C6: =Analyse!B6
B7: Huidige tevredenheid | C7: =Analyse!C6
B8: Beoogde tevredenheid | C8: =Analyse!D6 -> 0
B9: Huidige zelfredzaamheid | C9: =Analyse!C8
B10: Beoogde zelfredzaamheid | C10: =Analyse!D8 -> 0
B12: Focusdomein 2 | C12: =Analyse!B11
B13: Huidige tevredenheid | C13: =Analyse!C11
B14: Beoogde tevredenheid | C14: =Analyse!D11 -> 0
B15: Huidige zelfredzaamheid | C15: =Analyse!C13
B16: Beoogde zelfredzaamheid | C16: =Analyse!D13 -> 0

Sheet Doelen & acties Focusdomein 1
C1: =Meting!E1 -> 0
B3: Doelen & acties Focusdomein 1
B5: =Analyse!B6
C6: Titel | D6: Omschrijving
B7: Doel 1
B8: Doel 2 (opioneel)
B9: Doel 3 (opioneel)
B10: nr. | C10: Doel | D10: Startdatum actie | E10: (Kleine) actie om doel te behalen | F10: Door | G10: Eindatum actie (gepland) | H10: Gelukt? | I10: Evt. toelichting
B11: 1
B12: 2
B13: 3
B14: 4
B15: 5
B16: 6
B17: 7
B18: 8
B19: 9
B20: 10
B21: 11
B22: 12
... B58: 48
H59: {=aantAL} -> #NAME?
H60: =(COUNTIF(Tabel3[Gelukt?],"Ja")/(COUNTIF(Tabel3[Gelukt?],"Ja")+COUNTIF(Tabel3[Gelukt?],"Nee")+COUNTIF(Tabel3[Gelukt?],"Deels"))) -> #DIV/0! | I60: van deze acties zijn gelukt

Sheet Doelen & acties Focusdomein 2
C1: =Meting!E1 -> 0
B3: Doelen & acties Focusdomein 2
B5: =Analyse!B11
C6: Titel | D6: Omschrijving
B7: Doel 1
B8: Doel 2 (opioneel)
B9: Doel 3 (opioneel)
B10: nr. | C10: Doel | D10: Startdatum actie | E10: (Kleine) actie om doel te behalen | F10: Door | G10: Eindatum actie (gepland) | H10: Gelukt? | I10: Evt. toelichting
B11: 1
B12: 2
B13: 3
B14: 4
B15: 5
B16: 6
B17: 7
B18: 8
B19: 9
B20: 10
B21: 11
B22: 12
... B58: 48
H59: {=aantAL} -> #NAME?
H60: =(COUNTIF(Tabel33[Gelukt?],"Ja")/(COUNTIF(Tabel33[Gelukt?],"Ja")+COUNTIF(Tabel33[Gelukt?],"Nee")+COUNTIF(Tabel33[Gelukt?],"Deels"))) -> #DIV/0! | I60: van deze acties zijn gelukt
