Workbook

Sheet Keuzeblad
D1: MAAK UW KEUZE

Sheet 1. Persoonsgegevens
B2: Versie 5.7 / Datum: 11-9-2026
B4: Persoonsgegevens
B5: In te vullen door de toeleider
B7: Persoonsgegevens
B8: Initialen
B9: Voor- en achternaam
B10: Geboortedatum
B11: BSN
B12: Straat + huisnr.
B13: Postcode
B14: Woonplaats
B15: Telefoonnummer
... B44: Datum inwoner stelt ondersteuningsvraag

Sheet 2. Ondersteuningsprofiel
B1: ='1. Persoonsgegevens'!C8 -> 0
B3: Ondersteuningsprofiel
B5: Begeleidingsvorm
B6: OAD*
B7: *Indien 'ja': verstuur ondersteuningsplan (ook) naar Kikmaat.
B8: Groei is mogelijk in de huidige, eigen thuissituatie
B9: Hulpvraag is planbaar
B12: Kenmerken
B13: Psychiatrische en/of psychosociale problematiek
B14: Niet-aangeboren hersenletsel (NAH)
B15: Licht verstandelijke beperking
B16: Verslavingsproblematiek
B17: Delictgedrag
... B74: Contact met toeleider nodig voorafgaand aan eerste contactmoment met cliënt?
B76: Ik ga ermee akkoord dat mijn persoonsgegevens gedeeld worden met Siem*: | C76: FALSE
B77: *Indien cliënt niet akkoord gaat, kan de ondersteuning niet worden opgestart.

Sheet 2A. Informatie
B1: ='1. Persoonsgegevens'!C8 -> 0
B3: Extra informatie
B4: Beschrijving (invullen van wat toepassing is)
B6: Huidige situatie
B19: Gezinssituatie/netwerk
B20: Hoe ziet uw gezinssituatie eruit? Heeft u kinderen en wat zijn de leeftijden?
B23: Wonen
B24: Wat is uw woonsituatie? Met wie woont u in de woning?
B27: Financiën
B28: Heeft u inkomen? Zijn er schulden?
B31: Gezondheid
B32: Hoe is het met uw gezondheid gesteld?
B35: Werk/dagbesteding
... B44: Heeft u eerder ondersteuning/hulpverlening gehad? Zo ja, wat voor hulp is dat geweest?

Sheet 3. WAT-gesprek
B1: ='1. Persoonsgegevens'!C8 -> 0
B3: WAT-gesprek
B5: Relevante recente gebeurtenissen
B8: Eventuele context uit het netwerk of systeem
B11: Observaties uit WAT-gesprek
B12: Non-verbale observaties (spanning, vermijding, ontregeling, oogcontact) en inzicht en realiteitsbesef (hoe goed begrijpt iemand de eigen problematiek en gevolgen daarvan)
B15: Inhoudelijke aandachtspunten
B16: Begeleidingsstijlen die wel/niet aansluiten, belastbaarheid cliënt, aansluiting met groepsdynamiek, persoonlijke kenmerken die van invloed zijn op wonen & begeleiding
B19: Risicofactoren
B20: Veiligheidsrisico's, agressie of conflictgevoeligheid, verslavingsproblematiek, financiële risico's, signalen uit netwerk of eerdere begeleiding. Beschrijf wat het risico inhoudt, wat dit betekent voor de plaatsing en wat nodig is om het risico te beperken.
B23: Inzichten van de sleutelfiguur
B24: Moet er zicht zijn op een gemeenschappelijke voordeur?
B25: Is cliënt (met hulp) in staat om voorzieningen te delen?
... B39: · Relevante correspondentie of overdrachtsinformatie

Sheet 4. Betrokken medewerkers
B1: ='1. Persoonsgegevens'!C8 -> 0
B3: Betrokken medewerkers
B5: Sleutelfiguur
B6: Voor- en achternaam
B7: Telefoonnummer
B8: E-mailadres
B10: Optioneel:
B11: Contactpersoon
B12: Relatie
B13: Voor- en achternaam
B14: Telefoonnummer
B15: E-mailadres
B17: Optioneel:
... B22: E-mailadres

Sheet 5. Woonvorm
B1: ='1. Persoonsgegevens'!C8 -> 0
B3: Bepaling van de woonvorm
B5: Ondersteuningsbehoefte
D6: Vul in:
B7: Is er sprake van lage, matige of hoge zelfredzaamheid? | E7: (Laag, Matig, Hoog) | F7: {=_xlfn.IFS(D7="Laag",5,D7="Matig",2,D7="Hoog",1)} -> #N/A
B8: Is er intensieve, uitstroomgerichte of lichte begeleiding nodig? | E8: (Intensief, uitstroomgericht, licht) | F8: {=_xlfn.IFS(D8="Intensief",5,D8="Uitstroomgericht",2,D8="Licht",1)} -> #N/A
B9: Welke mate van onplanbare ondersteuning is nodig? | E9: (24-uurs aanwezigheid, 24-uurs nabijheid, 24-uurs oproepbaarheid, geen onplanbare onderstening) | F9: {=_xlfn.IFS(D9="24-uurs aanwezigheid",30,D9="24-uurs nabijheid",20,D9="24-uurs oproepbaarheid",8,D9="geen onplanbare ondersteuning",0)} -> #N/A
B10: Is bijstelling van de aard van de ondersteuning mogelijk binnen 1 jaar? | E10: (Ja, Nee) | F10: {=_xlfn.IFS(D10="Ja",0,D10="Nee",1)} -> #N/A
F11: =SUM(F7:F10) -> #N/A
C12: Woonvorm:
C13: {=_xlfn.IFS(F11<=9,"Geen noodzaak beschermd wonen",F11<=20,"Beschermd thuis",F11<=31,"Begeleide woonvorm",F11>31,"Beschermde woonvorm")} -> #N/A
B15: Woonvoorwaarden
B16: Is cliënt (met hulp) zelf in staat om huur te betalen? | E16: (Ja, Nee)
B17: Is cliënt ingeschreven bij de woningbouw? Zo, nee dit is een voorwaarde voor beschermd wonen (als het niet in de thuissituatie is) | E17: (Ja, Nee)
B19: Voorwaarden en afspraken
B20: Een signaleringsplan beschrijft signalen en acties om problemen of crisissituaties te voorkomen; voor cliënten die gebruikmaken van beschermd wonen is een signaleringsplan altijd verplicht. Met een risicotaxatie worden risico's voor de cliënt en/of omgeving in kaart gebracht en wordt bepaald welke aanvullende afspraken of maatregelen nodig zijn.
B21: TRUE | C21: Geadviseerd een risicotaxatie op te stellen door zorgaanbieder
B22: FALSE | C22: Verplicht een risicotaxatie op te stellen door zorgaanbieder
B24: Focusdomeinen
B25: Op welke domeinen liggen de voornaamste ondersteuningsbehoeften?
B26: Wonen - Geld & administratie - Veiligheid & geborgenheid - Lichamelijk gezondheid - Werk & opleiding - Vrije tijd & daginvulling - Sociaal netwerk - Dagelijks functioneren - Mentale gezondheid
B28: Domein 1:
B29: Domein 2:

Sheet 6. Conclusie en ondertekening
B1: ='1. Persoonsgegevens'!C8 -> 0
F2: Versie 5.7 / Datum: 11-9-2026
B3: Conclusie
B5: Persoonsgegevens | E5: Sleutelfiguur
B6: Naam | C6: ='1. Persoonsgegevens'!C8 -> 0 | E6: Naam | F6: ='4. Betrokken medewerkers'!C6 -> 0
B7: Geboortedatum | C7: ='1. Persoonsgegevens'!C10 -> 0 | E7: Telefoonnummer | F7: ='4. Betrokken medewerkers'!C7 -> 0
B8: Straat + huisnr | C8: ='1. Persoonsgegevens'!C12 -> 0 | E8: E-mailadres | F8: ='4. Betrokken medewerkers'!C8 -> 0
B9: Postcode | C9: ='1. Persoonsgegevens'!C13 -> 0
B10: Woonplaats | C10: ='1. Persoonsgegevens'!C14 -> 0 | E10: Aard van de ondersteuning
B11: BSN | C11: ='1. Persoonsgegevens'!C11 -> 0 | E11: Ondersteuningsvorm
B12: BSN gecontroleerd? | E12: Huisvesting
E13: Daginvulling
B14: Focusdomeinen
B15: Focusdomein 1 | C15: ='5. Woonvorm'!C28 -> 0 | E15: Startdatum ondersteuning
B16: Focusdomein 2 | C16: ='5. Woonvorm'!C29 -> 0 | E16: Einddatum ondersteuning
B18: Toelichting op aard van de ondersteuning
B25: Ondertekening
B27: Getekend door cliënt (wettelijk vertegenwoordiger): | E27: Niet akkoord, cliënt dient zelf andere aanvraag in:
E28: FALSE
B31: Naam | E31: Akkoord Netwerkmanager
B32: Datum
B33: Plaats
B35: Datum besluit
B37: Deze conclusie blijft van kracht totdat een evaluatie leidt tot wijziging in de aard van de ondersteuning of vaststelling van een einddatum. In dat geval wordt een nieuwe beschikking vastgesteld en ondertekend, waarmee eerdere conclusies komen te vervallen.

Sheet Bezwaarclausule en CAK
B2: Bezwaarclausule & CAK
B4: Afhankelijk van de ondersteuningsvorm is één van onderstaande eigen bijdragen van toepassing.
B6: Eigen bijdrage voor Begeleiding, Dagopvang en Beschermd Wonen zonder Huisvesting
B7: Bijna iedereen betaalt voor hulp of ondersteuning vanuit de Wmo een eigen bijdrage. Het is een vast bedrag per maand. Het maakt niet uit hoeveel hulp, ondersteuning of hulpmiddelen u ontvangt. Het CAK berekent namens de gemeente of u een eigen bijdrage moet betalen. Moet u een eigen bijdrage betalen? Dan stuurt het CAK iedere maand een rekening. Op de rekening staat ook de hoogte van de eigen bijdrage. Dit is een landelijk vastgesteld bedrag. De eigen bijdrage kan ieder jaar hoger worden. Het CAK informeert u hier op tijd over. Voor meer informatie kunt u terecht op www.hetcak.nl.
B13: Eigen bijdrage voor Beschermd Wonen met Huisvesting:
B14: Bijna iedereen betaalt voor hulp of ondersteuning vanuit de Wmo een eigen bijdrage. Het CAK berekent namens de gemeente of u een eigen bijdrage moet betalen. Moet u een eigen bijdrage betalen? Dan stuurt het CAK iedere maand een rekening. Op de rekening staat ook de hoogte van de eigen bijdrage. Voor meer informatie kunt u terecht op www.hetcak.nl.
B19: Bezwaarclausule
B20: Als u het niet eens bent met onze beslissing dan kunt u binnen zes weken een bezwaarschrift indienen bij het college van burgemeester en wethouders, postbus 90118, 5000 LA Tilburg.
B22: Voorlopige voorziening
B23: Is het belangrijk dat de uitvoering van het besluit direct tegengehouden wordt? Dan kunt u een voorlopige voorziening aanvragen. Dit kan alleen als u ook al een bezwaarschrift heeft ingediend. U kunt deze voorziening aanvragen bij de Voorzieningenrechter van de Rechtbank Zeeland-West Brabant, team bestuursrecht. Het adres is postbus 90006, 4800 PA in Breda. U kunt deze voorziening ook digitaal aanvragen bij genoemde rechtbank via http://loket.rechtspraak.nl/bestuursrecht. Voor het aanvragen van deze voorziening moet u griffierecht betalen. U kunt bij de rechtbank navragen hoeveel dat precies is.

Sheet 5. Meting
B1: ='1. Persoonsgegevens'!C8 -> 0
C3: Belangrijkheid 1 = meest belangrijk 9 = minst belangrijk | D3: Zelfredzaam-heid | E3: Tevredenheid 1 = Zwaar ontevr. 10 = Volledig tevr. | F3: Toelichting | G3: Urgentie (advies) | H3: Focusdomein? (Ja / Nee) max. 2
B4: 1 | G4: {=_xlfn.IFS(S4=1," ",S4<9,"Hoog",S4<16,"Midden",S4<100,"Laag")} | J4: =IF(H4="Ja",J3+1,J3) -> 0 | S4: =B4*1.9*E4+1 -> 1
B5: 2 | G5: {=_xlfn.IFS(S5=0," ",S5<9,"Hoog",S5<16,"Midden",S5<100,"Laag")} | J5: =IF(H5="Ja",J4+1,J4) -> 0 | S5: =B5*E5 -> 0
B6: 3 | G6: {=_xlfn.IFS(S6=-1," ",S6<9,"Hoog",S6<16,"Midden",S6<100,"Laag")} | J6: =IF(H6="Ja",J5+1,J5) -> 0 | S6: =B6*E6-1 -> -1
B7: 4 | G7: {=_xlfn.IFS(S7=-6," ",S7<9,"Hoog",S7<16,"Midden",S7<100,"Laag")} | J7: =IF(H7="Ja",J6+1,J6) -> 0 | S7: =B7*E7-6 -> -6
B8: 5 | G8: {=_xlfn.IFS(S8=-4," ",S8<9,"Hoog",S8<16,"Midden",S8<100,"Laag")} | J8: =IF(H8="Ja",J7+1,J7) -> 0 | S8: =B8*E8-4 -> -4
B9: 6 | G9: {=_xlfn.IFS(S9=-5.9," ",S9<9,"Hoog",S9<16,"Midden",S9<100,"Laag")} | J9: =IF(H9="Ja",J8+1,J8) -> 0 | S9: =B9*E9-5.9 -> -5.9
B10: 7 | G10: {=_xlfn.IFS(S10=-6.9," ",S10<9,"Hoog",S10<16,"Midden",S10<100,"Laag")} | J10: =IF(H10="Ja",J9+1,J9) -> 0 | S10: =B10*E10-6.9 -> -6.9
B11: 8 | G11: {=_xlfn.IFS(S11=-7," ",S11<9,"Hoog",S11<16,"Midden",S11<100,"Laag")} | J11: =IF(H11="Ja",J10+1,J10) -> 0 | S11: =B11*E11-7 -> -7
B12: 9 | G12: {=_xlfn.IFS(S12=-7," ",S12<9,"Hoog",S12<16,"Midden",S12<100,"Laag")} | J12: =IF(H12="Ja",J11+1,J11) -> 0 | S12: =B12*E12-7 -> -7
B14: Professionele toelichting (optioneel, in te vullen door medewerker)
E25: 1
E26: 2
E27: 3
E28: 4
E29: 5
E30: 6
E31: 7
E32: 8
E33: 9
E34: 10

Sheet 6. Analyse
B1: ='1. Persoonsgegevens'!C8 -> 0
B3: Focusdomeinen
B4: Focusdomein 1 | C4: Huidige tevredenheid | D4: Beoogde tevredenheid | E4: Aanleiding | G4: Beleving | H4: Consequentie
B5: =_xlfn.XLOOKUP(1,'5. Meting'!J:J,'5. Meting'!C:C,"") | C5: =_xlfn.XLOOKUP(1,'5. Meting'!J:J,'5. Meting'!E:E,"")
C6: Huidige zelfredzaamh. | D6: Beoogde zelfredzaamh.
C7: =_xlfn.XLOOKUP(1,'5. Meting'!J:J,'5. Meting'!D:D,"")
B9: Focusdomein 2 | C9: Huidige tevredenheid | D9: Beoogde tevredenheid | E9: Aanleiding | G9: Beleving | H9: Consequentie
B10: =_xlfn.XLOOKUP(2,'5. Meting'!J:J,'5. Meting'!C:C,"") | C10: =_xlfn.XLOOKUP(2,'5. Meting'!J:J,'5. Meting'!E:E,"")
C11: Huidige zelfredzaamh. | D11: Beoogde zelfredzaamh.
C12: =_xlfn.XLOOKUP(2,'5. Meting'!J:J,'5. Meting'!D:D,"")

Sheet 7. Evaluatie
B1: 0
B3: Evaluatie
B4: Datum van deze evaluatie
B6: Welke ontwikkelingen hebben zich de afgelopen periode voorgedaan en welke stappen zijn er gezet?
B9: Wat zijn de afspraken voor de komende periode?
B12: Focusdomeinen
B13: Op welke domeinen liggen de voornaamste ondersteuningsbehoeften de komende periode?
B14: Wonen - Geld & administratie - Veiligheid & geborgenheid - Lichamelijk gezondheid - Werk & opleiding - Vrije tijd & daginvulling - Sociaal netwerk - Dagelijks functioneren - Mentale gezondheid
C16: Domein 1
C17: Domein 2
B19: Indien de evaluatie leidt tot een heroverweging van de woonvorm, vul je de ondersteuningsbehoefte in.
C20: Vul in:
B21: Is er sprake van lage, matige of hoge zelfredzaamheid? | D21: (Laag, Matig, Hoog) | E21: {=_xlfn.IFS(C21="Laag",5,C21="Matig",2,C21="Hoog",1)} -> #N/A
B22: Is er intensieve, uitstroomgerichte of lichte begeleiding nodig? | D22: (Intensief, uitstroomgericht, licht) | E22: {=_xlfn.IFS(C22="Intensief",5,C22="Uitstroomgericht",2,C22="Licht",1)} -> #N/A
B23: Welke mate van onplanbare ondersteuning is nodig? | D23: (24-uurs aanwezigheid, 24-uurs nabijheid, 24-uurs oproepbaarheid, geen onplanbare onderstening) | E23: {=_xlfn.IFS(C23="24-uurs aanwezigheid",30,C23="24-uurs nabijheid",20,C23="24-uurs oproepbaarheid",8,C23="geen onplanbare ondersteuning",0)} -> #N/A
B24: Is bijstelling van de aard van de ondersteuning mogelijk binnen 1 jaar? | D24: (Ja, Nee) | E24: {=_xlfn.IFS(C24="Ja",0,C24="Nee",1)} -> #N/A
E25: =SUM(E21:E24) -> #N/A
B26: Woonvorm:
B27: {=_xlfn.IFS(E25<=9,"Geen noodzaak beschermd wonen",E25<=20,"Beschermd thuis",E25<=31,"Begeleide woonvorm",E25>31,"Beschermde woonvorm")} -> #N/A
B29: Indien de evaluatie leidt tot een heroverweging van het huisvestingscomponent, geef je hieronder een toelichting
B32: Wat is het (uitstroom)perspectief?
B35: Er is een Weer-Thuis Woning aangevraagd of deze wordt aangevraagd?
B36: FALSE
B37: Datum aanvraag, indien bekend
B39: Over hoeveel maand(en) wordt er opnieuw geëvalueerd
B41: Indien naar aanleiding van de evaluatie de aard van de ondersteuning wordt gewijzigd of een einddatum aan de beschikking wordt verbonden, dient de beschikking opnieuw te worden vastgesteld en ondertekend. Hiermee vervallen alle eerder vastgestelde en/of ondertekende conclusies.

Sheet 6. Conclusie en ondertekeni (2)
B1: ='1. Persoonsgegevens'!C8 -> 0
F2: Versie 5.7 / Datum: 11-9-2026
B3: Conclusie
B5: Persoonsgegevens | E5: Sleutelfiguur
B6: Naam | C6: ='1. Persoonsgegevens'!C8 -> 0 | E6: Naam | F6: ='4. Betrokken medewerkers'!C6 -> 0
B7: Geboortedatum | C7: ='1. Persoonsgegevens'!C10 -> 0 | E7: Telefoonnummer | F7: ='4. Betrokken medewerkers'!C7 -> 0
B8: Straat + huisnr | C8: ='1. Persoonsgegevens'!C12 -> 0 | E8: E-mailadres | F8: ='4. Betrokken medewerkers'!C8 -> 0
B9: Postcode | C9: ='1. Persoonsgegevens'!C13 -> 0
B10: Woonplaats | C10: ='1. Persoonsgegevens'!C14 -> 0 | E10: Aard van de ondersteuning
B11: BSN | C11: ='1. Persoonsgegevens'!C11 -> 0 | E11: Ondersteuningsvorm
B12: BSN gecontroleerd? | E12: Huisvesting
E13: Daginvulling
B14: Focusdomeinen
B15: Focusdomein 1 | C15: ='7. Evaluatie'!B16 -> 0 | E15: Startdatum ondersteuning
B16: Focusdomein 2 | C16: ='7. Evaluatie'!B17 -> 0 | E16: Einddatum ondersteuning
B18: Toelichting op aard van de ondersteuning
B25: Ondertekening
B27: Getekend door cliënt (wettelijk vertegenwoordiger): | E27: Niet akkoord, cliënt dient zelf andere aanvraag in:
E28: FALSE
B31: Naam | E31: Akkoord Netwerkmanager
B32: Datum
B33: Plaats
B35: Datum besluit
B37: Met deze conclusie komen alle eerder vastgestelde en/of ondertekende conclusies te vervallen. Deze conclusie blijft van kracht totdat een evaluatie aanleiding geeft tot wijziging van de aard van de ondersteuning of tot het vaststellen van een einddatum, waarna een nieuwe beschikking wordt vastgesteld en ondertekend.

Sheet 7. Evaluatie (2)
B1: 0
B3: Evaluatie
B4: Datum van deze evaluatie
B6: Welke ontwikkelingen hebben zich de afgelopen periode voorgedaan en welke stappen zijn er gezet?
B9: Wat zijn de afspraken voor de komende periode?
B12: Focusdomeinen
B13: Op welke domeinen liggen de voornaamste ondersteuningsbehoeften de komende periode?
B14: Wonen - Geld & administratie - Veiligheid & geborgenheid - Lichamelijk gezondheid - Werk & opleiding - Vrije tijd & daginvulling - Sociaal netwerk - Dagelijks functioneren - Mentale gezondheid
C16: Domein 1
C17: Domein 2
B19: Indien de evaluatie leidt tot een heroverweging van de woonvorm, vul je de ondersteuningsbehoefte in.
C20: Vul in:
B21: Is er sprake van lage, matige of hoge zelfredzaamheid? | D21: (Laag, Matig, Hoog) | E21: {=_xlfn.IFS(C21="Laag",5,C21="Matig",2,C21="Hoog",1)} -> #N/A
B22: Is er intensieve, uitstroomgerichte of lichte begeleiding nodig? | D22: (Intensief, uitstroomgericht, licht) | E22: {=_xlfn.IFS(C22="Intensief",5,C22="Uitstroomgericht",2,C22="Licht",1)} -> #N/A
B23: Welke mate van onplanbare ondersteuning is nodig? | D23: (24-uurs aanwezigheid, 24-uurs nabijheid, 24-uurs oproepbaarheid, geen onplanbare onderstening) | E23: {=_xlfn.IFS(C23="24-uurs aanwezigheid",30,C23="24-uurs nabijheid",20,C23="24-uurs oproepbaarheid",8,C23="geen onplanbare ondersteuning",0)} -> #N/A
B24: Is bijstelling van de aard van de ondersteuning mogelijk binnen 1 jaar? | D24: (Ja, Nee) | E24: {=_xlfn.IFS(C24="Ja",0,C24="Nee",1)} -> #N/A
E25: =SUM(E21:E24) -> #N/A
B26: Woonvorm:
B27: {=_xlfn.IFS(E25<=9,"Geen noodzaak beschermd wonen",E25<=20,"Beschermd thuis",E25<=31,"Begeleide woonvorm",E25>31,"Beschermde woonvorm")} -> #N/A
B29: Indien de evaluatie leidt tot een heroverweging van het huisvestingscomponent, geef je hieronder een toelichting
B32: Wat is het (uitstroom)perspectief?
B35: Er is een Weer-Thuis Woning aangevraagd of deze wordt aangevraagd?
B36: FALSE
B37: Datum aanvraag, indien bekend
B39: Over hoeveel maand(en) wordt er opnieuw geëvalueerd
B41: Indien naar aanleiding van de evaluatie de aard van de ondersteuning wordt gewijzigd of een einddatum aan de beschikking wordt verbonden, dient de beschikking opnieuw te worden vastgesteld en ondertekend. Hiermee vervallen alle eerder vastgestelde en/of ondertekende conclusies.

Sheet 6. Conclusie en ondertekeni (3)
B1: ='1. Persoonsgegevens'!C8 -> 0
F2: Versie 5.7 / Datum: 11-9-2026
B3: Conclusie
B5: Persoonsgegevens | E5: Sleutelfiguur
B6: Naam | C6: ='1. Persoonsgegevens'!C8 -> 0 | E6: Naam | F6: ='4. Betrokken medewerkers'!C6 -> 0
B7: Geboortedatum | C7: ='1. Persoonsgegevens'!C10 -> 0 | E7: Telefoonnummer | F7: ='4. Betrokken medewerkers'!C7 -> 0
B8: Straat + huisnr | C8: ='1. Persoonsgegevens'!C12 -> 0 | E8: E-mailadres | F8: ='4. Betrokken medewerkers'!C8 -> 0
B9: Postcode | C9: ='1. Persoonsgegevens'!C13 -> 0
B10: Woonplaats | C10: ='1. Persoonsgegevens'!C14 -> 0 | E10: Aard van de ondersteuning
B11: BSN | C11: ='1. Persoonsgegevens'!C11 -> 0 | E11: Ondersteuningsvorm
B12: BSN gecontroleerd? | E12: Huisvesting
E13: Daginvulling
B14: Focusdomeinen
B15: Focusdomein 1 | C15: ='7. Evaluatie (2)'!B16 -> 0 | E15: Startdatum ondersteuning
B16: Focusdomein 2 | C16: ='7. Evaluatie (2)'!B17 -> 0 | E16: Einddatum ondersteuning
B18: Toelichting op aard van de ondersteuning
B25: Ondertekening
B27: Getekend door cliënt (wettelijk vertegenwoordiger): | E27: Niet akkoord, cliënt dient zelf andere aanvraag in:
E28: FALSE
B31: Naam | E31: Akkoord Netwerkmanager
B32: Datum
B33: Plaats
B35: Datum besluit
B37: Met deze conclusie komen alle eerder vastgestelde en/of ondertekende conclusies te vervallen. Deze conclusie blijft van kracht totdat een evaluatie aanleiding geeft tot wijziging van de aard van de ondersteuning of tot het vaststellen van een einddatum, waarna een nieuwe beschikking wordt vastgesteld en ondertekend.

Sheet 7. Evaluatie (3)
B1: 0
B3: Evaluatie
B4: Datum van deze evaluatie
B6: Welke ontwikkelingen hebben zich de afgelopen periode voorgedaan en welke stappen zijn er gezet?
B9: Wat zijn de afspraken voor de komende periode?
B12: Focusdomeinen
B13: Op welke domeinen liggen de voornaamste ondersteuningsbehoeften de komende periode?
B14: Wonen - Geld & administratie - Veiligheid & geborgenheid - Lichamelijk gezondheid - Werk & opleiding - Vrije tijd & daginvulling - Sociaal netwerk - Dagelijks functioneren - Mentale gezondheid
C16: Domein 1
C17: Domein 2
B19: Indien de evaluatie leidt tot een heroverweging van de woonvorm, vul je de ondersteuningsbehoefte in.
C20: Vul in:
B21: Is er sprake van lage, matige of hoge zelfredzaamheid? | D21: (Laag, Matig, Hoog) | E21: {=_xlfn.IFS(C21="Laag",5,C21="Matig",2,C21="Hoog",1)} -> #N/A
B22: Is er intensieve, uitstroomgerichte of lichte begeleiding nodig? | D22: (Intensief, uitstroomgericht, licht) | E22: {=_xlfn.IFS(C22="Intensief",5,C22="Uitstroomgericht",2,C22="Licht",1)} -> #N/A
B23: Welke mate van onplanbare ondersteuning is nodig? | D23: (24-uurs aanwezigheid, 24-uurs nabijheid, 24-uurs oproepbaarheid, geen onplanbare onderstening) | E23: {=_xlfn.IFS(C23="24-uurs aanwezigheid",30,C23="24-uurs nabijheid",20,C23="24-uurs oproepbaarheid",8,C23="geen onplanbare ondersteuning",0)} -> #N/A
B24: Is bijstelling van de aard van de ondersteuning mogelijk binnen 1 jaar? | D24: (Ja, Nee) | E24: {=_xlfn.IFS(C24="Ja",0,C24="Nee",1)} -> #N/A
E25: =SUM(E21:E24) -> #N/A
B26: Woonvorm:
B27: {=_xlfn.IFS(E25<=9,"Geen noodzaak beschermd wonen",E25<=20,"Beschermd thuis",E25<=31,"Begeleide woonvorm",E25>31,"Beschermde woonvorm")} -> #N/A
B29: Indien de evaluatie leidt tot een heroverweging van het huisvestingscomponent, geef je hieronder een toelichting
B32: Wat is het (uitstroom)perspectief?
B35: Er is een Weer-Thuis Woning aangevraagd of deze wordt aangevraagd?
B36: FALSE
B37: Datum aanvraag, indien bekend
B39: Over hoeveel maand(en) wordt er opnieuw geëvalueerd
B41: Indien naar aanleiding van de evaluatie de aard van de ondersteuning wordt gewijzigd of een einddatum aan de beschikking wordt verbonden, dient de beschikking opnieuw te worden vastgesteld en ondertekend. Hiermee vervallen alle eerder vastgestelde en/of ondertekende conclusies.

Sheet 6. Conclusie en ondertekeni (4)
B1: ='1. Persoonsgegevens'!C8 -> 0
F2: Versie 5.7 / Datum: 11-9-2026
B3: Conclusie
B5: Persoonsgegevens | E5: Sleutelfiguur
B6: Naam | C6: ='1. Persoonsgegevens'!C8 -> 0 | E6: Naam | F6: ='4. Betrokken medewerkers'!C6 -> 0
B7: Geboortedatum | C7: ='1. Persoonsgegevens'!C10 -> 0 | E7: Telefoonnummer | F7: ='4. Betrokken medewerkers'!C7 -> 0
B8: Straat + huisnr | C8: ='1. Persoonsgegevens'!C12 -> 0 | E8: E-mailadres | F8: ='4. Betrokken medewerkers'!C8 -> 0
B9: Postcode | C9: ='1. Persoonsgegevens'!C13 -> 0
B10: Woonplaats | C10: ='1. Persoonsgegevens'!C14 -> 0 | E10: Aard van de ondersteuning
B11: BSN | C11: ='1. Persoonsgegevens'!C11 -> 0 | E11: Ondersteuningsvorm
B12: BSN gecontroleerd? | E12: Huisvesting
E13: Daginvulling
B14: Focusdomeinen
B15: Focusdomein 1 | C15: ='7. Evaluatie (3)'!B16 -> 0 | E15: Startdatum ondersteuning
B16: Focusdomein 2 | C16: ='7. Evaluatie (3)'!B17 -> 0 | E16: Einddatum ondersteuning
B18: Toelichting op aard van de ondersteuning
B25: Ondertekening
B27: Getekend door cliënt (wettelijk vertegenwoordiger): | E27: Niet akkoord, cliënt dient zelf andere aanvraag in:
E28: FALSE
B31: Naam | E31: Akkoord Netwerkmanager
B32: Datum
B33: Plaats
B35: Datum besluit
B37: Met deze conclusie komen alle eerder vastgestelde en/of ondertekende conclusies te vervallen. Deze conclusie blijft van kracht totdat een evaluatie aanleiding geeft tot wijziging van de aard van de ondersteuning of tot het vaststellen van een einddatum, waarna een nieuwe beschikking wordt vastgesteld en ondertekend.

Sheet 7. Evaluatie (4)
B1: 0
B3: Evaluatie
B4: Datum van deze evaluatie
B6: Welke ontwikkelingen hebben zich de afgelopen periode voorgedaan en welke stappen zijn er gezet?
B9: Wat zijn de afspraken voor de komende periode?
B12: Focusdomeinen
B13: Op welke domeinen liggen de voornaamste ondersteuningsbehoeften de komende periode?
B14: Wonen - Geld & administratie - Veiligheid & geborgenheid - Lichamelijk gezondheid - Werk & opleiding - Vrije tijd & daginvulling - Sociaal netwerk - Dagelijks functioneren - Mentale gezondheid
C16: Domein 1
C17: Domein 2
B19: Indien de evaluatie leidt tot een heroverweging van de woonvorm, vul je de ondersteuningsbehoefte in.
C20: Vul in:
B21: Is er sprake van lage, matige of hoge zelfredzaamheid? | D21: (Laag, Matig, Hoog) | E21: {=_xlfn.IFS(C21="Laag",5,C21="Matig",2,C21="Hoog",1)} -> #N/A
B22: Is er intensieve, uitstroomgerichte of lichte begeleiding nodig? | D22: (Intensief, uitstroomgericht, licht) | E22: {=_xlfn.IFS(C22="Intensief",5,C22="Uitstroomgericht",2,C22="Licht",1)} -> #N/A
B23: Welke mate van onplanbare ondersteuning is nodig? | D23: (24-uurs aanwezigheid, 24-uurs nabijheid, 24-uurs oproepbaarheid, geen onplanbare onderstening) | E23: {=_xlfn.IFS(C23="24-uurs aanwezigheid",30,C23="24-uurs nabijheid",20,C23="24-uurs oproepbaarheid",8,C23="geen onplanbare ondersteuning",0)} -> #N/A
B24: Is bijstelling van de aard van de ondersteuning mogelijk binnen 1 jaar? | D24: (Ja, Nee) | E24: {=_xlfn.IFS(C24="Ja",0,C24="Nee",1)} -> #N/A
E25: =SUM(E21:E24) -> #N/A
B26: Woonvorm:
B27: {=_xlfn.IFS(E25<=9,"Geen noodzaak beschermd wonen",E25<=20,"Beschermd thuis",E25<=31,"Begeleide woonvorm",E25>31,"Beschermde woonvorm")} -> #N/A
B29: Indien de evaluatie leidt tot een heroverweging van het huisvestingscomponent, geef je hieronder een toelichting
B32: Wat is het (uitstroom)perspectief?
B35: Er is een Weer-Thuis Woning aangevraagd of deze wordt aangevraagd?
B36: FALSE
B37: Datum aanvraag, indien bekend
B39: Over hoeveel maand(en) wordt er opnieuw geëvalueerd
B41: Indien naar aanleiding van de evaluatie de aard van de ondersteuning wordt gewijzigd of een einddatum aan de beschikking wordt verbonden, dient de beschikking opnieuw te worden vastgesteld en ondertekend. Hiermee vervallen alle eerder vastgestelde en/of ondertekende conclusies.

Sheet 6. Conclusie en ondertekeni (5)
B1: ='1. Persoonsgegevens'!C8 -> 0
F2: Versie 5.7 / Datum: 11-9-2026
B3: Conclusie
B5: Persoonsgegevens | E5: Sleutelfiguur
B6: Naam | C6: ='1. Persoonsgegevens'!C8 -> 0 | E6: Naam | F6: ='4. Betrokken medewerkers'!C6 -> 0
B7: Geboortedatum | C7: ='1. Persoonsgegevens'!C10 -> 0 | E7: Telefoonnummer | F7: ='4. Betrokken medewerkers'!C7 -> 0
B8: Straat + huisnr | C8: ='1. Persoonsgegevens'!C12 -> 0 | E8: E-mailadres | F8: ='4. Betrokken medewerkers'!C8 -> 0
B9: Postcode | C9: ='1. Persoonsgegevens'!C13 -> 0
B10: Woonplaats | C10: ='1. Persoonsgegevens'!C14 -> 0 | E10: Aard van de ondersteuning
B11: BSN | C11: ='1. Persoonsgegevens'!C11 -> 0 | E11: Ondersteuningsvorm
B12: BSN gecontroleerd? | E12: Huisvesting
E13: Daginvulling
B14: Focusdomeinen
B15: Focusdomein 1 | C15: ='7. Evaluatie (4)'!B16 -> 0 | E15: Startdatum ondersteuning
B16: Focusdomein 2 | C16: ='7. Evaluatie (4)'!B17 -> 0 | E16: Einddatum ondersteuning
B18: Toelichting op aard van de ondersteuning
B25: Ondertekening
B27: Getekend door cliënt (wettelijk vertegenwoordiger): | E27: Niet akkoord, cliënt dient zelf andere aanvraag in:
E28: FALSE
B31: Naam | E31: Akkoord Netwerkmanager
B32: Datum
B33: Plaats
B35: Datum besluit
B37: Met deze conclusie komen alle eerder vastgestelde en/of ondertekende conclusies te vervallen. Deze conclusie blijft van kracht totdat een evaluatie aanleiding geeft tot wijziging van de aard van de ondersteuning of tot het vaststellen van een einddatum, waarna een nieuwe beschikking wordt vastgesteld en ondertekend.

Sheet Bezwaarclausules en CAK Dongen
B2: Bezwaarclausule & CAK
B4: Afhankelijk van de ondersteuningsvorm is één van onderstaande eigen bijdragen van toepassing.
B6: Eigen bijdrage voor Begeleiding, Dagopvang en Beschermd Wonen zonder Huisvesting
B7: Bijna iedereen betaalt voor hulp of ondersteuning vanuit de Wmo een eigen bijdrage. Het is een vast bedrag per maand. Het maakt niet uit hoeveel hulp, ondersteuning of hulpmiddelen u ontvangt. Het CAK berekent namens de gemeente of u een eigen bijdrage moet betalen. Moet u een eigen bijdrage betalen? Dan stuurt het CAK iedere maand een rekening. Op de rekening staat ook de hoogte van de eigen bijdrage. Dit is een landelijk vastgesteld bedrag. De eigen bijdrage kan ieder jaar hoger worden. Het CAK informeert u hier op tijd over. Voor meer informatie kunt u terecht op www.hetcak.nl.
B10: Eigen bijdrage voor Beschermd Wonen met Huisvesting:
B11: Bijna iedereen betaalt voor hulp of ondersteuning vanuit de Wmo een eigen bijdrage. Het CAK berekent namens de gemeente of u een eigen bijdrage moet betalen. Moet u een eigen bijdrage betalen? Dan stuurt het CAK iedere maand een rekening. Op de rekening staat ook de hoogte van de eigen bijdrage. Voor meer informatie kunt u terecht op www.hetcak.nl.
B16: Bezwaarclausule
B17: Als u het niet eens bent dan kunt u bezwaar maken tegen dit besluit. Stuur dan binnen zes weken na de datum van dit besluit een bezwaarschrift. U kunt uw bezwaarschrift sturen naar postbus 10153, 5100 GE Dongen. In het bezwaarschrift moet het volgende staan:
B18: • Uw naam, adres, telefoonnummer en BSN nummer;
B19: • Met welk besluit u het niet eens bent;
B20: • Waarom u het niet eens bent en wat het besluit volgens u zou moeten zijn;
B21: • De datum waarop u de brief maakt en uw handtekening.
... B28: U kunt deze voorziening ook digitaal aanvragen bij genoemde rechtbank via http://loket.rechtspraak.nl/bestuursrecht. Voor het aanvragen van deze voorziening moet u griffierecht betalen. U kunt bij de rechtbank navragen hoeveel dat precies is.

Sheet Bezwaarclausules en CAK GHO
B2: Bezwaarclausule & CAK
B4: Afhankelijk van de ondersteuningsvorm is één van onderstaande eigen bijdragen van toepassing.
B6: Eigen bijdrage voor Begeleiding, Dagopvang en Beschermd Wonen zonder Huisvesting
B7: Bijna iedereen betaalt voor hulp of ondersteuning vanuit de Wmo een eigen bijdrage. Het is een vast bedrag per maand. Het maakt niet uit hoeveel hulp, ondersteuning of hulpmiddelen u ontvangt. Het CAK berekent namens de gemeente of u een eigen bijdrage moet betalen. Moet u een eigen bijdrage betalen? Dan stuurt het CAK iedere maand een rekening. Op de rekening staat ook de hoogte van de eigen bijdrage. Dit is een landelijk vastgesteld bedrag. De eigen bijdrage kan ieder jaar hoger worden. Het CAK informeert u hier op tijd over. Voor meer informatie kunt u terecht op www.hetcak.nl.
B13: Eigen bijdrage voor Beschermd Wonen met Huisvesting:
B14: Bijna iedereen betaalt voor hulp of ondersteuning vanuit de Wmo een eigen bijdrage. Het CAK berekent namens de gemeente of u een eigen bijdrage moet betalen. Moet u een eigen bijdrage betalen? Dan stuurt het CAK iedere maand een rekening. Op de rekening staat ook de hoogte van de eigen bijdrage. Voor meer informatie kunt u terecht op www.hetcak.nl.
B19: Bezwaarclausule
B20: "Indien u het niet eens bent met deze beslissing kunt u binnen 6 weken na dagtekening van de brief bezwaar maken. Dit kan op twee manieren: 1. Online: Webadres Goirle: ga naar www.goirle.nl/bezwaarschriftindienen en gebruik uw DigiD; Webadres Oisterwijk: ga naar www.oisterwijk.nl/bestuur-en-politiek/klachten-en-bezwaar en gebruik uw DigiD; Webadres Hilvarenbeek: ga naar www.hilvarenbeek.nl/bezwaar en gebruik uw DigiD. 2. Op papier: stuur uw bezwaarschrift naar Adres Goirle: Het college van burgemeester en wethouders, Postbus 17, 5050 AA Goirle Adres Oisterwijk: Het college van burgemeester en wethouders. Postbus 10101. 5060 GA Oisterwijk Adres Hilvarenbeek: Het college van burgemeester en wethouders, Postbus 3, 5080 AA Hilvarenbeek Zet in het bezwaarschrift in elk geval: •Uw naam en adres en de datum van het bezwaarschrift. Daarnaast vragen wij u om uw telefoonnummer in het bezwaarschrift te zetten. •Om welk besluit het gaat (bijv. onderwerp, zaaknummer) en waarom u het niet eens bent met het besluit •Uw handtekening. Bij een online bezwaar, is uw DigiD uw handtekening.
B22: Voorlopige voorziening
B23: Is het belangrijk dat de uitvoering van het besluit direct tegengehouden wordt? Dan kunt u een voorlopige voorziening aanvragen. Dit kan alleen als u ook al een bezwaarschrift heeft ingediend. U kunt deze voorziening aanvragen bij de Voorzieningenrechter van de Rechtbank Zeeland-West Brabant, team bestuursrecht. Het adres is postbus 90006, 4800 PA in Breda. U kunt deze voorziening ook digitaal aanvragen bij genoemde rechtbank via http://loket.rechtspraak.nl/bestuursrecht. Voor het aanvragen van deze voorziening moet u griffierecht betalen. U kunt bij de rechtbank navragen hoeveel dat precies is.

Sheet Bezwaarclausules en CAK Heusden
B2: Bezwaarclausule & CAK
B4: Afhankelijk van de ondersteuningsvorm is één van onderstaande eigen bijdragen van toepassing.
B6: Eigen bijdrage voor Begeleiding, Dagopvang en Beschermd Wonen zonder Huisvesting
B7: Bijna iedereen betaalt voor hulp of ondersteuning vanuit de Wmo een eigen bijdrage. Het is een vast bedrag per maand. Het maakt niet uit hoeveel hulp, ondersteuning of hulpmiddelen u ontvangt. Het CAK berekent namens de gemeente of u een eigen bijdrage moet betalen. Moet u een eigen bijdrage betalen? Dan stuurt het CAK iedere maand een rekening. Op de rekening staat ook de hoogte van de eigen bijdrage. Dit is een landelijk vastgesteld bedrag. De eigen bijdrage kan ieder jaar hoger worden. Het CAK informeert u hier op tijd over. Voor meer informatie kunt u terecht op www.hetcak.nl.
B13: Eigen bijdrage voor Beschermd Wonen met Huisvesting:
B14: Bijna iedereen betaalt voor hulp of ondersteuning vanuit de Wmo een eigen bijdrage. Het CAK berekent namens de gemeente of u een eigen bijdrage moet betalen. Moet u een eigen bijdrage betalen? Dan stuurt het CAK iedere maand een rekening. Op de rekening staat ook de hoogte van de eigen bijdrage. Voor meer informatie kunt u terecht op www.hetcak.nl.
B19: Bezwaarclausule
B20: "Bent u het niet eens met dit besluit? Dan kunt u hiertegen schriftelijk en binnen zes weken na de verzenddatum van dit besluit bij de gemeente een bezwaarschrift indienen. Wilt u het bezwaarschrift ondertekenen en ervoor zorgen dat het in ieder geval de volgende gegevens bevat: • uw naam en adres en de datum; • een omschrijving (of een kopie) van het besluit waartegen u bezwaar maakt; • argumenten voor het bezwaar. U kunt uw bezwaarschrift ook digitaal indienen. Kijk hiervoor op https://www.heusden.nl/storage/pdc/bezwaar-en-beroep. Hiervoor heeft u wel een elektronische handtekening (DigiD) nodig."
B22: Voorlopige voorziening
B23: Is het belangrijk dat de uitvoering van het besluit direct tegengehouden wordt? Dan kunt u een voorlopige voorziening aanvragen. Dit kan alleen als u ook al een bezwaarschrift heeft ingediend. U kunt deze voorziening aanvragen bij de Voorzieningenrechter van de Rechtbank Zeeland-West Brabant, team bestuursrecht. Het adres is postbus 90006, 4800 PA in Breda. U kunt deze voorziening ook digitaal aanvragen bij genoemde rechtbank via http://loket.rechtspraak.nl/bestuursrecht. Voor het aanvragen van deze voorziening moet u griffierecht betalen. U kunt bij de rechtbank navragen hoeveel dat precies is.

Sheet Bezwaarclausules en CAK ABC
B2: Bezwaarclausule & CAK
B4: Afhankelijk van de ondersteuningsvorm is één van onderstaande eigen bijdragen van toepassing.
B6: Eigen bijdrage voor Begeleiding, Dagopvang en Beschermd Wonen zonder Huisvesting
B7: Bijna iedereen betaalt voor hulp of ondersteuning vanuit de Wmo een eigen bijdrage. Het is een vast bedrag per maand. Het maakt niet uit hoeveel hulp, ondersteuning of hulpmiddelen u ontvangt. Het CAK berekent namens de gemeente of u een eigen bijdrage moet betalen. Moet u een eigen bijdrage betalen? Dan stuurt het CAK iedere maand een rekening. Op de rekening staat ook de hoogte van de eigen bijdrage. Dit is een landelijk vastgesteld bedrag. De eigen bijdrage kan ieder jaar hoger worden. Het CAK informeert u hier op tijd over. Voor meer informatie kunt u terecht op www.hetcak.nl.
B13: Eigen bijdrage voor Beschermd Wonen met Huisvesting:
B14: Bijna iedereen betaalt voor hulp of ondersteuning vanuit de Wmo een eigen bijdrage. Het CAK berekent namens de gemeente of u een eigen bijdrage moet betalen. Moet u een eigen bijdrage betalen? Dan stuurt het CAK iedere maand een rekening. Op de rekening staat ook de hoogte van de eigen bijdrage. Voor meer informatie kunt u terecht op www.hetcak.nl.
B19: Bezwaarclausule
B20: "Wilt u bezwaar maken? Dan moet u dit doen binnen zes weken na de dag waarop deze brief is verstuurd. U stuurt uw bezwaarschrift naar: Adres voor Alphen en Chaam: College van B&W, Bezwaar Sociale Zaken, Postbus 3 5130 AA Alphen NB. Adres voor Baarle-Nassau: College van B&W, Bezwaar Sociale Zaken, Postbus 105, 5110 AC Baarle-Nassau. Adres voor Gilze en Rijen: College van B&W, Bezwaar Sociale Zaken, Postbus 73, 5120 AB Rijen. De volgende informatie moet in uw bezwaarschrift staan: - uw naam, adres en de datum waarop u de brief schrijft inclusief uw handtekening; - een omschrijving van het besluit waartegen u bezwaar maakt; - waarom u bezwaar maakt. U kunt uw bezwaarschrift ook digitaal indienen via: Webadres voor Alphen: www.alphen-chaam.nl/bezwaar Webadres voor Baarle-Nassau: www.baarle-nassau.nl/bezwaar Webadres voor Gilze & Rijen: www.gilzerijen.nl/bezwaar"
B22: Voorlopige voorziening
B23: Is het belangrijk dat de uitvoering van het besluit direct tegengehouden wordt? Dan kunt u een voorlopige voorziening aanvragen. Dit kan alleen als u ook al een bezwaarschrift heeft ingediend. U kunt deze voorziening aanvragen bij de Voorzieningenrechter van de Rechtbank Zeeland-West Brabant, team bestuursrecht. Het adres is postbus 90006, 4800 PA in Breda. U kunt deze voorziening ook digitaal aanvragen bij genoemde rechtbank via http://loket.rechtspraak.nl/bestuursrecht. Voor het aanvragen van deze voorziening moet u griffierecht betalen. U kunt bij de rechtbank navragen hoeveel dat precies is.

Sheet Bezwaarclausules en CAK LoZ
B2: Bezwaarclausule & CAK
B4: Afhankelijk van de ondersteuningsvorm is één van onderstaande eigen bijdragen van toepassing.
B6: Eigen bijdrage voor Begeleiding, Dagopvang en Beschermd Wonen zonder Huisvesting
B7: Bijna iedereen betaalt voor hulp of ondersteuning vanuit de Wmo een eigen bijdrage. Het is een vast bedrag per maand. Het maakt niet uit hoeveel hulp, ondersteuning of hulpmiddelen u ontvangt. Het CAK berekent namens de gemeente of u een eigen bijdrage moet betalen. Moet u een eigen bijdrage betalen? Dan stuurt het CAK iedere maand een rekening. Op de rekening staat ook de hoogte van de eigen bijdrage. Dit is een landelijk vastgesteld bedrag. De eigen bijdrage kan ieder jaar hoger worden. Het CAK informeert u hier op tijd over. Voor meer informatie kunt u terecht op www.hetcak.nl.
B13: Eigen bijdrage voor Beschermd Wonen met Huisvesting:
B14: Bijna iedereen betaalt voor hulp of ondersteuning vanuit de Wmo een eigen bijdrage. Het CAK berekent namens de gemeente of u een eigen bijdrage moet betalen. Moet u een eigen bijdrage betalen? Dan stuurt het CAK iedere maand een rekening. Op de rekening staat ook de hoogte van de eigen bijdrage. Voor meer informatie kunt u terecht op www.hetcak.nl.
B19: Bezwaarclausule
B20: "Als u het niet eens bent met dit besluit, dan kunt daar kosteloos bezwaar tegen maken. U schrijft dan een bezwaarschrift en stuurt dit naar: Het college van burgemeester en wethouders van Loon op Zand Postbus 7 5170 AA Kaatsheuvel Dit bezwaar dient binnen zes weken na de datum van de verzending van dit besluit door ons te zijn ontvangen. Het bezwaarschrift moet ten minste het volgende bevatten: - uw naam en adres; - de dagtekening; - de omschrijving van het besluit waartegen u bezwaar maakt; - de gronden waarop u bezwaar maakt; - de ondertekening. Graag een kopie van het besluit waartegen u bezwaar maakt meezenden. Op de site van de gemeente treft u meer informatie aan over het indienen van bezwaar of beroep. www.loonopzand.nl"
B22: Voorlopige voorziening
B23: Is het belangrijk dat de uitvoering van het besluit direct tegengehouden wordt? Dan kunt u een voorlopige voorziening aanvragen. Dit kan alleen als u ook al een bezwaarschrift heeft ingediend. U kunt deze voorziening aanvragen bij de Voorzieningenrechter van de Rechtbank Zeeland-West Brabant, team bestuursrecht. Het adres is postbus 90006, 4800 PA in Breda. U kunt deze voorziening ook digitaal aanvragen bij genoemde rechtbank via http://loket.rechtspraak.nl/bestuursrecht. Voor het aanvragen van deze voorziening moet u griffierecht betalen. U kunt bij de rechtbank navragen hoeveel dat precies is.

Sheet Lijstjes
A4: Tilburg | B4: Als u het niet eens bent met onze beslissing dan kunt u een bezwaarschrift indienen bij burgemeester en wethouders van de gemeente Tilburg. U kunt online bezwaar maken via de website www.tilburg.nl (hiervoor moet u inloggen met uw DigiD). U kunt uw bezwaarschrift ook sturen naar postbus 90118, 5000 LA Tilburg.
A5: Dongen | B5: "Als u het niet eens bent dan kunt u bezwaar maken tegen dit besluit. Stuur dan binnen zes weken na de datum van dit besluit een bezwaarschrift. U kunt uw bezwaarschrift sturen naar postbus 10153, 5100 GE Dongen. In het bezwaarschrift moet het volgende staan: • Uw naam, adres, telefoonnummer en BSN nummer; • Met welk besluit u het niet eens bent; • Waarom u het niet eens bent en wat het besluit volgens u zou moeten zijn; • De datum waarop u de brief maakt en uw handtekening. Zet er duidelijk bij dat het om een “bezwaarschrift” gaat en stuur een kopie van het ondersteuningsplan (waarin het besluit staat) mee.
A6: Goirle | B6: "Indien u het niet eens bent met deze beslissing kunt u binnen 6 weken na dagtekening van de brief bezwaar maken. Dit kan op twee manieren: 1. Online: Webadres Goirle: ga naar www.goirle.nl/bezwaarschriftindienen en gebruik uw DigiD; Webadres Oisterwijk: ga naar www.oisterwijk.nl/bestuur-en-politiek/klachten-en-bezwaar en gebruik uw DigiD; Webadres Hilvarenbeek: ga naar www.hilvarenbeek.nl/bezwaar en gebruik uw DigiD. 2. Op papier: stuur uw bezwaarschrift naar Adres Goirle: Het college van burgemeester en wethouders, Postbus 17, 5050 AA Goirle Adres Oisterwijk: Het college van burgemeester en wethouders. Postbus 10101. 5060 GA Oisterwijk Adres Hilvarenbeek: Het college van burgemeester en wethouders, Postbus 3, 5080 AA Hilvarenbeek Zet in het bezwaarschrift in elk geval: •Uw naam en adres en de datum van het bezwaarschrift. Daarnaast vragen wij u om uw telefoonnummer in het bezwaarschrift te zetten. •Om welk besluit het gaat (bijv. onderwerp, zaaknummer) en waarom u het niet eens bent met het besluit •Uw handtekening. Bij een online bezwaar, is uw DigiD uw handtekening. "
A7: Hilvarenbeek | B7: "Indien u het niet eens bent met deze beslissing kunt u binnen 6 weken na dagtekening van de brief bezwaar maken. Dit kan op twee manieren: 1. Online: Webadres Goirle: ga naar www.goirle.nl/bezwaarschriftindienen en gebruik uw DigiD; Webadres Oisterwijk: ga naar www.oisterwijk.nl/bestuur-en-politiek/klachten-en-bezwaar en gebruik uw DigiD; Webadres Hilvarenbeek: ga naar www.hilvarenbeek.nl/bezwaar en gebruik uw DigiD. 2. Op papier: stuur uw bezwaarschrift naar Adres Goirle: Het college van burgemeester en wethouders, Postbus 17, 5050 AA Goirle Adres Oisterwijk: Het college van burgemeester en wethouders. Postbus 10101. 5060 GA Oisterwijk Adres Hilvarenbeek: Het college van burgemeester en wethouders, Postbus 3, 5080 AA Hilvarenbeek Zet in het bezwaarschrift in elk geval: •Uw naam en adres en de datum van het bezwaarschrift. Daarnaast vragen wij u om uw telefoonnummer in het bezwaarschrift te zetten. •Om welk besluit het gaat (bijv. onderwerp, zaaknummer) en waarom u het niet eens bent met het besluit •Uw handtekening. Bij een online bezwaar, is uw DigiD uw handtekening.
A8: Oisterwijk | B8: "Indien u het niet eens bent met deze beslissing kunt u binnen 6 weken na dagtekening van de brief bezwaar maken. Dit kan op twee manieren: 1. Online: Webadres Goirle: ga naar www.goirle.nl/bezwaarschriftindienen en gebruik uw DigiD; Webadres Oisterwijk: ga naar www.oisterwijk.nl/bestuur-en-politiek/klachten-en-bezwaar en gebruik uw DigiD; Webadres Hilvarenbeek: ga naar www.hilvarenbeek.nl/bezwaar en gebruik uw DigiD. 2. Op papier: stuur uw bezwaarschrift naar Adres Goirle: Het college van burgemeester en wethouders, Postbus 17, 5050 AA Goirle Adres Oisterwijk: Het college van burgemeester en wethouders. Postbus 10101. 5060 GA Oisterwijk Adres Hilvarenbeek: Het college van burgemeester en wethouders, Postbus 3, 5080 AA Hilvarenbeek Zet in het bezwaarschrift in elk geval: •Uw naam en adres en de datum van het bezwaarschrift. Daarnaast vragen wij u om uw telefoonnummer in het bezwaarschrift te zetten. •Om welk besluit het gaat (bijv. onderwerp, zaaknummer) en waarom u het niet eens bent met het besluit •Uw handtekening. Bij een online bezwaar, is uw DigiD uw handtekening. "
A9: Heusden | B9: "Bent u het niet eens met dit besluit? Dan kunt u hiertegen schriftelijk en binnen zes weken na de verzenddatum van dit besluit bij de gemeente een bezwaarschrift indienen. Wilt u het bezwaarschrift ondertekenen en ervoor zorgen dat het in ieder geval de volgende gegevens bevat: • uw naam en adres en de datum; • een omschrijving (of een kopie) van het besluit waartegen u bezwaar maakt; • argumenten voor het bezwaar. U kunt uw bezwaarschrift ook digitaal indienen. Kijk hiervoor op https://www.heusden.nl/storage/pdc/bezwaar-en-beroep. Hiervoor heeft u wel een elektronische handtekening (DigiD) nodig."
A10: Alphen en Chaam | B10: "Wilt u bezwaar maken? Dan moet u dit doen binnen zes weken na de dag waarop deze brief is verstuurd. U stuurt uw bezwaarschrift naar: Adres voor Alphen en Chaam: College van B&W, Bezwaar Sociale Zaken, Postbus 3 5130 AA Alphen NB. Adres voor Baarle-Nassau: College van B&W, Bezwaar Sociale Zaken, Postbus 105, 5110 AC Baarle-Nassau. Adres voor Gilze en Rijen: College van B&W, Bezwaar Sociale Zaken, Postbus 73, 5120 AB Rijen. De volgende informatie moet in uw bezwaarschrift staan: - uw naam, adres en de datum waarop u de brief schrijft inclusief uw handtekening; - een omschrijving van het besluit waartegen u bezwaar maakt; - waarom u bezwaar maakt. U kunt uw bezwaarschrift ook digitaal indienen via: Webadres voor Alphen: www.alphen-chaam.nl/bezwaar Webadres voor Baarle-Nassau: www.baarle-nassau.nl/bezwaar Webadres voor Gilze & Rijen: www.gilzerijen.nl/bezwaar"
A11: Baarle-Nassau | B11: "Wilt u bezwaar maken? Dan moet u dit doen binnen zes weken na de dag waarop deze brief is verstuurd. U stuurt uw bezwaarschrift naar: Adres voor Alphen en Chaam: College van B&W, Bezwaar Sociale Zaken, Postbus 3 5130 AA Alphen NB. Adres voor Baarle-Nassau: College van B&W, Bezwaar Sociale Zaken, Postbus 105, 5110 AC Baarle-Nassau. Adres voor Gilze en Rijen: College van B&W, Bezwaar Sociale Zaken, Postbus 73, 5120 AB Rijen. De volgende informatie moet in uw bezwaarschrift staan: - uw naam, adres en de datum waarop u de brief schrijft inclusief uw handtekening; - een omschrijving van het besluit waartegen u bezwaar maakt; - waarom u bezwaar maakt. U kunt uw bezwaarschrift ook digitaal indienen via: Webadres voor Alphen: www.alphen-chaam.nl/bezwaar Webadres voor Baarle-Nassau: www.baarle-nassau.nl/bezwaar Webadres voor Gilze & Rijen: www.gilzerijen.nl/bezwaar"
A12: Gilze en Rijen | B12: "Wilt u bezwaar maken? Dan moet u dit doen binnen zes weken na de dag waarop deze brief is verstuurd. U stuurt uw bezwaarschrift naar: Adres voor Alphen en Chaam: College van B&W, Bezwaar Sociale Zaken, Postbus 3 5130 AA Alphen NB. Adres voor Baarle-Nassau: College van B&W, Bezwaar Sociale Zaken, Postbus 105, 5110 AC Baarle-Nassau. Adres voor Gilze en Rijen: College van B&W, Bezwaar Sociale Zaken, Postbus 73, 5120 AB Rijen. De volgende informatie moet in uw bezwaarschrift staan: - uw naam, adres en de datum waarop u de brief schrijft inclusief uw handtekening; - een omschrijving van het besluit waartegen u bezwaar maakt; - waarom u bezwaar maakt. U kunt uw bezwaarschrift ook digitaal indienen via: Webadres voor Alphen: www.alphen-chaam.nl/bezwaar Webadres voor Baarle-Nassau: www.baarle-nassau.nl/bezwaar Webadres voor Gilze & Rijen: www.gilzerijen.nl/bezwaar"
A13: Loon op Zand | B13: "Als u het niet eens bent met dit besluit, dan kunt daar kosteloos bezwaar tegen maken. U schrijft dan een bezwaarschrift en stuurt dit naar: Het college van burgemeester en wethouders van Loon op Zand Postbus 7 5170 AA Kaatsheuvel Dit bezwaar dient binnen zes weken na de datum van de verzending van dit besluit door ons te zijn ontvangen. Het bezwaarschrift moet ten minste het volgende bevatten: - uw naam en adres; - de dagtekening; - de omschrijving van het besluit waartegen u bezwaar maakt; - de gronden waarop u bezwaar maakt; - de ondertekening. Graag een kopie van het besluit waartegen u bezwaar maakt meezenden. Op de site van de gemeente treft u meer informatie aan over het indienen van bezwaar of beroep. www.loonopzand.nl"

Sheet 8. Actielijnen & acties
B1: ='1. Persoonsgegevens'!C8 -> 0
B3: Actielijnen & acties
B5: ='6. Analyse'!B5 | K5: ='6. Analyse'!B10
C6: Titel | D6: Omschrijving | L6: Titel | M6: Omschrijving
B7: Actielijn 1 | K7: Actielijn 1
B8: Actielijn 2 (opioneel) | K8: Actielijn 2 (opioneel)
B9: Actielijn 3 (opioneel) | K9: Actielijn 3 (opioneel)
B10: nr. | C10: Actielijn | D10: Startdatum actie | E10: (Kleine) actie om actielijn te behalen | F10: Door | G10: Eindatum actie (gepland) | H10: Gelukt? | I10: Evt. toelichting | K10: nr. | L10: Actielijn | M10: Startdatum actie | N10: (Kleine) actie om actielijn te behalen | O10: Door | P10: Eindatum actie (gepland) | Q10: Gelukt? | R10: Evt. toelichting
B11: 1 | K11: 1
B12: 2 | K12: 2
B13: 3 | K13: 3
B14: 4 | K14: 4
B15: 5 | K15: 5
B16: 6 | K16: 6
B17: 7 | K17: 7
B18: 8 | K18: 8
B19: 9 | K19: 9
B20: 10 | K20: 10
B21: 11 | K21: 11
B22: 12 | K22: 12
... B58: 48 | K58: 48
H59: {=aantAL} -> #NAME?
H60: =(COUNTIF(Tabel3[Gelukt?],"Ja")/(COUNTIF(Tabel3[Gelukt?],"Ja")+COUNTIF(Tabel3[Gelukt?],"Nee")+COUNTIF(Tabel3[Gelukt?],"Deels"))) -> #DIV/0! | I60: van deze acties zijn gelukt | Q60: =(COUNTIF(Tabel33[Gelukt?],"Ja")/(COUNTIF(Tabel33[Gelukt?],"Ja")+COUNTIF(Tabel33[Gelukt?],"Nee")+COUNTIF(Tabel33[Gelukt?],"Deels"))) -> #DIV/0! | R60: van deze acties zijn gelukt

Sheet 5a. Meting
B1: ='1. Persoonsgegevens'!C8 -> 0
C3: Belangrijkheid 1 = meest belangrijk 9 = minst belangrijk | D3: Zelfredzaam-heid | E3: Tevredenheid 1 = Zwaar ontevr. 10 = Volledig tevr. | F3: Toelichting | G3: Urgentie (advies) | H3: Focusdomein? (Ja / Nee) max. 2
B4: 1 | G4: {=_xlfn.IFS(S4=1," ",S4<9,"Hoog",S4<16,"Midden",S4<100,"Laag")} | J4: =IF(H4="Ja",J3+1,J3) -> 0 | S4: =B4*1.9*E4+1 -> 1
B5: 2 | G5: {=_xlfn.IFS(S5=0," ",S5<9,"Hoog",S5<16,"Midden",S5<100,"Laag")} | J5: =IF(H5="Ja",J4+1,J4) -> 0 | S5: =B5*E5 -> 0
B6: 3 | G6: {=_xlfn.IFS(S6=-1," ",S6<9,"Hoog",S6<16,"Midden",S6<100,"Laag")} | J6: =IF(H6="Ja",J5+1,J5) -> 0 | S6: =B6*E6-1 -> -1
B7: 4 | G7: {=_xlfn.IFS(S7=-6," ",S7<9,"Hoog",S7<16,"Midden",S7<100,"Laag")} | J7: =IF(H7="Ja",J6+1,J6) -> 0 | S7: =B7*E7-6 -> -6
B8: 5 | G8: {=_xlfn.IFS(S8=-4," ",S8<9,"Hoog",S8<16,"Midden",S8<100,"Laag")} | J8: =IF(H8="Ja",J7+1,J7) -> 0 | S8: =B8*E8-4 -> -4
B9: 6 | G9: {=_xlfn.IFS(S9=-5.9," ",S9<9,"Hoog",S9<16,"Midden",S9<100,"Laag")} | J9: =IF(H9="Ja",J8+1,J8) -> 0 | S9: =B9*E9-5.9 -> -5.9
B10: 7 | G10: {=_xlfn.IFS(S10=-6.9," ",S10<9,"Hoog",S10<16,"Midden",S10<100,"Laag")} | J10: =IF(H10="Ja",J9+1,J9) -> 0 | S10: =B10*E10-6.9 -> -6.9
B11: 8 | G11: {=_xlfn.IFS(S11=-7," ",S11<9,"Hoog",S11<16,"Midden",S11<100,"Laag")} | J11: =IF(H11="Ja",J10+1,J10) -> 0 | S11: =B11*E11-7 -> -7
B12: 9 | G12: {=_xlfn.IFS(S12=-7," ",S12<9,"Hoog",S12<16,"Midden",S12<100,"Laag")} | J12: =IF(H12="Ja",J11+1,J11) -> 0 | S12: =B12*E12-7 -> -7
B14: Professionele toelichting (optioneel, in te vullen door medewerker)
E25: 1
E26: 2
E27: 3
E28: 4
E29: 5
E30: 6
E31: 7
E32: 8
E33: 9
E34: 10

Sheet 6a. Analyse
B1: ='1. Persoonsgegevens'!C8 -> 0
B3: Focusdomeinen
B4: Focusdomein 1 | C4: Huidige tevredenheid | D4: Beoogde tevredenheid | E4: Aanleiding | G4: Beleving | H4: Consequentie
B5: =_xlfn.XLOOKUP(1,'5a. Meting'!J:J,'5a. Meting'!C:C,"") | C5: =_xlfn.XLOOKUP(1,'5a. Meting'!J:J,'5a. Meting'!E:E,"")
C6: Huidige zelfredzaamh. | D6: Beoogde zelfredzaamh.
C7: =_xlfn.XLOOKUP(1,'5a. Meting'!J:J,'5a. Meting'!D:D,"")
B9: Focusdomein 2 | C9: Huidige tevredenheid | D9: Beoogde tevredenheid | E9: Aanleiding | G9: Beleving | H9: Consequentie
B10: =_xlfn.XLOOKUP(2,'5a. Meting'!J:J,'5a. Meting'!C:C,"") | C10: =_xlfn.XLOOKUP(2,'5a. Meting'!J:J,'5a. Meting'!E:E,"")
C11: Huidige zelfredzaamh. | D11: Beoogde zelfredzaamh.
C12: =_xlfn.XLOOKUP(2,'5a. Meting'!J:J,'5a. Meting'!D:D,"")
